BEGIN:VCALENDAR
VERSION:2.0
PRODID:-// - ECPv5.8.1//NONSGML v1.0//EN
CALSCALE:GREGORIAN
METHOD:PUBLISH
X-ORIGINAL-URL:https://www.marytreemusic.com
X-WR-CALDESC:Events for 
BEGIN:VTIMEZONE
TZID:UTC
BEGIN:STANDARD
TZOFFSETFROM:+0000
TZOFFSETTO:+0000
TZNAME:UTC
DTSTART:20180101T000000
END:STANDARD
END:VTIMEZONE
BEGIN:VEVENT
DTSTART;TZID=UTC:20181227T200000
DTEND;TZID=UTC:20181228T000000
DTSTAMP:20260421T050041
CREATED:20181220T094739Z
LAST-MODIFIED:20181220T100548Z
UID:784-1545940800-1545955200@www.marytreemusic.com
SUMMARY:12-27 @ the Tin Roof - John Wilkes Telephone Booth & Marytree
DESCRIPTION:Last show of the year!  We’re headed to the Tin Roof in West Ashley on 12-27\, looking forward to sharing the stage with John Wilkes Telephone Booth.
URL:https://www.marytreemusic.com/event/12-27-the-tin-roof-john-wilkes-telephone-booth-marytree/
LOCATION:The Tin Roof\, 1117 Magnolia Road\, Charleston\, SC\, 29407\, United States
END:VEVENT
END:VCALENDAR